BEGIN:VCALENDAR
VERSION:2.0
PRODID:-//SOAR - ECPv6.15.17.1//NONSGML v1.0//EN
CALSCALE:GREGORIAN
METHOD:PUBLISH
X-ORIGINAL-URL:https://www.soardenver.org
X-WR-CALDESC:Events for SOAR
REFRESH-INTERVAL;VALUE=DURATION:PT1H
X-Robots-Tag:noindex
X-PUBLISHED-TTL:PT1H
BEGIN:VTIMEZONE
TZID:America/Denver
BEGIN:DAYLIGHT
TZOFFSETFROM:-0700
TZOFFSETTO:-0600
TZNAME:MDT
DTSTART:20250309T090000
END:DAYLIGHT
BEGIN:STANDARD
TZOFFSETFROM:-0600
TZOFFSETTO:-0700
TZNAME:MST
DTSTART:20251102T080000
END:STANDARD
BEGIN:DAYLIGHT
TZOFFSETFROM:-0700
TZOFFSETTO:-0600
TZNAME:MDT
DTSTART:20260308T090000
END:DAYLIGHT
BEGIN:STANDARD
TZOFFSETFROM:-0600
TZOFFSETTO:-0700
TZNAME:MST
DTSTART:20261101T080000
END:STANDARD
BEGIN:DAYLIGHT
TZOFFSETFROM:-0700
TZOFFSETTO:-0600
TZNAME:MDT
DTSTART:20270314T090000
END:DAYLIGHT
BEGIN:STANDARD
TZOFFSETFROM:-0600
TZOFFSETTO:-0700
TZNAME:MST
DTSTART:20271107T080000
END:STANDARD
END:VTIMEZONE
BEGIN:VEVENT
DTSTART;TZID=America/Denver:20260206T080000
DTEND;TZID=America/Denver:20260206T170000
DTSTAMP:20260424T062746
CREATED:20260206T165606Z
LAST-MODIFIED:20260206T165745Z
UID:10000386-1770364800-1770397200@www.soardenver.org
SUMMARY:Wish for Wheels at SOAR
DESCRIPTION:Colorful Meet the Teacher Back to School Flyer
URL:https://www.soardenver.org/calendar/wish-for-wheels-at-soar/
ATTACH;FMTTYPE=image/jpeg:https://www.soardenver.org/wp-content/uploads/2026/02/IMG_8299-scaled.jpg
END:VEVENT
BEGIN:VEVENT
DTSTART;VALUE=DATE:20260216
DTEND;VALUE=DATE:20260217
DTSTAMP:20260424T062746
CREATED:20250710T235708Z
LAST-MODIFIED:20260216T235708Z
UID:10000377-1771200000-1771286399@www.soardenver.org
SUMMARY:No School for Students | President's Day
DESCRIPTION:
URL:https://www.soardenver.org/calendar/no-school-for-students-presidents-day/
END:VEVENT
BEGIN:VEVENT
DTSTART;VALUE=DATE:20260227
DTEND;VALUE=DATE:20260228
DTSTAMP:20260424T062746
CREATED:20250710T235708Z
LAST-MODIFIED:20260227T235704Z
UID:10000378-1772150400-1772236799@www.soardenver.org
SUMMARY:No School for Students | PD Day
DESCRIPTION:
URL:https://www.soardenver.org/calendar/no-school-for-students-pd-day-6/
END:VEVENT
BEGIN:VEVENT
DTSTART;VALUE=DATE:20260319
DTEND;VALUE=DATE:20260320
DTSTAMP:20260424T062746
CREATED:20250710T235708Z
LAST-MODIFIED:20260319T235656Z
UID:10000379-1773878400-1773964799@www.soardenver.org
SUMMARY:Parent Teacher Conferences
DESCRIPTION:
URL:https://www.soardenver.org/calendar/parent-teacher-conferences-12/
END:VEVENT
BEGIN:VEVENT
DTSTART;VALUE=DATE:20260320
DTEND;VALUE=DATE:20260321
DTSTAMP:20260424T062746
CREATED:20250710T235708Z
LAST-MODIFIED:20260319T235655Z
UID:10000380-1773964800-1774051199@www.soardenver.org
SUMMARY:No School for Students | PD Day
DESCRIPTION:
URL:https://www.soardenver.org/calendar/no-school-for-students-pd-day-7/
END:VEVENT
BEGIN:VEVENT
DTSTART;VALUE=DATE:20260324
DTEND;VALUE=DATE:20260325
DTSTAMP:20260424T062746
CREATED:20250710T235709Z
LAST-MODIFIED:20260324T235704Z
UID:10000381-1774310400-1774396799@www.soardenver.org
SUMMARY:Parent Teacher Conferences
DESCRIPTION:
URL:https://www.soardenver.org/calendar/parent-teacher-conferences-13/
END:VEVENT
BEGIN:VEVENT
DTSTART;VALUE=DATE:20260330
DTEND;VALUE=DATE:20260404
DTSTAMP:20260424T062746
CREATED:20250710T235709Z
LAST-MODIFIED:20260403T235708Z
UID:10000382-1774828800-1775260799@www.soardenver.org
SUMMARY:No School for Students | Spring Break
DESCRIPTION:
URL:https://www.soardenver.org/calendar/no-school-for-students-spring-break/
END:VEVENT
BEGIN:VEVENT
DTSTART;VALUE=DATE:20260422
DTEND;VALUE=DATE:20260423
DTSTAMP:20260424T062746
CREATED:20260422T191057Z
LAST-MODIFIED:20260422T191057Z
UID:10000391-1776816000-1776902399@www.soardenver.org
SUMMARY:Kindergarten Continuation Ceremony
DESCRIPTION:
URL:https://www.soardenver.org/calendar/kindergarten-continuation-ceremony-3/
END:VEVENT
BEGIN:VEVENT
DTSTART;VALUE=DATE:20260501
DTEND;VALUE=DATE:20260502
DTSTAMP:20260424T062746
CREATED:20250710T235709Z
LAST-MODIFIED:20260421T005934Z
UID:10000383-1777593600-1777679999@www.soardenver.org
SUMMARY:No School for Students | PD Day
DESCRIPTION:
URL:https://www.soardenver.org/calendar/no-school-for-students-pd-day-8/
END:VEVENT
BEGIN:VEVENT
DTSTART;TZID=America/Denver:20260507T154500
DTEND;TZID=America/Denver:20260507T170000
DTSTAMP:20260424T062746
CREATED:20260422T190900Z
LAST-MODIFIED:20260422T190900Z
UID:10000388-1778168700-1778173200@www.soardenver.org
SUMMARY:Empower through the Arts
DESCRIPTION:
URL:https://www.soardenver.org/calendar/empower-through-the-arts/
END:VEVENT
BEGIN:VEVENT
DTSTART;VALUE=DATE:20260513
DTEND;VALUE=DATE:20260514
DTSTAMP:20260424T062746
CREATED:20260422T190939Z
LAST-MODIFIED:20260422T190939Z
UID:10000389-1778630400-1778716799@www.soardenver.org
SUMMARY:Field Day
DESCRIPTION:
URL:https://www.soardenver.org/calendar/field-day-2/
END:VEVENT
BEGIN:VEVENT
DTSTART;TZID=America/Denver:20260520T170000
DTEND;TZID=America/Denver:20260520T183000
DTSTAMP:20260424T062746
CREATED:20260422T191020Z
LAST-MODIFIED:20260422T191020Z
UID:10000390-1779296400-1779301800@www.soardenver.org
SUMMARY:5th Grade Continuation Ceremony
DESCRIPTION:
URL:https://www.soardenver.org/calendar/5th-grade-continuation-ceremony-3/
END:VEVENT
BEGIN:VEVENT
DTSTART;VALUE=DATE:20260521
DTEND;VALUE=DATE:20260522
DTSTAMP:20260424T062746
CREATED:20260326T200147Z
LAST-MODIFIED:20260326T200147Z
UID:10000387-1779321600-1779407999@www.soardenver.org
SUMMARY:Last Day of School
DESCRIPTION:
URL:https://www.soardenver.org/calendar/last-day-of-school-10/
END:VEVENT
END:VCALENDAR