BEGIN:VCALENDAR
VERSION:2.0
PRODID:-//SOAR - ECPv6.15.17.1//NONSGML v1.0//EN
CALSCALE:GREGORIAN
METHOD:PUBLISH
X-WR-CALNAME:SOAR
X-ORIGINAL-URL:https://www.soardenver.org
X-WR-CALDESC:Events for SOAR
REFRESH-INTERVAL;VALUE=DURATION:PT1H
X-Robots-Tag:noindex
X-PUBLISHED-TTL:PT1H
BEGIN:VTIMEZONE
TZID:America/Denver
BEGIN:DAYLIGHT
TZOFFSETFROM:-0700
TZOFFSETTO:-0600
TZNAME:MDT
DTSTART:20250309T090000
END:DAYLIGHT
BEGIN:STANDARD
TZOFFSETFROM:-0600
TZOFFSETTO:-0700
TZNAME:MST
DTSTART:20251102T080000
END:STANDARD
BEGIN:DAYLIGHT
TZOFFSETFROM:-0700
TZOFFSETTO:-0600
TZNAME:MDT
DTSTART:20260308T090000
END:DAYLIGHT
BEGIN:STANDARD
TZOFFSETFROM:-0600
TZOFFSETTO:-0700
TZNAME:MST
DTSTART:20261101T080000
END:STANDARD
BEGIN:DAYLIGHT
TZOFFSETFROM:-0700
TZOFFSETTO:-0600
TZNAME:MDT
DTSTART:20270314T090000
END:DAYLIGHT
BEGIN:STANDARD
TZOFFSETFROM:-0600
TZOFFSETTO:-0700
TZNAME:MST
DTSTART:20271107T080000
END:STANDARD
END:VTIMEZONE
BEGIN:VEVENT
DTSTART;VALUE=DATE:20260513
DTEND;VALUE=DATE:20260514
DTSTAMP:20260424T093649
CREATED:20260422T190939Z
LAST-MODIFIED:20260422T190939Z
UID:10000389-1778630400-1778716799@www.soardenver.org
SUMMARY:Field Day
DESCRIPTION:
URL:https://www.soardenver.org/calendar/field-day-2/
END:VEVENT
BEGIN:VEVENT
DTSTART;TZID=America/Denver:20260520T170000
DTEND;TZID=America/Denver:20260520T183000
DTSTAMP:20260424T093649
CREATED:20260422T191020Z
LAST-MODIFIED:20260422T191020Z
UID:10000390-1779296400-1779301800@www.soardenver.org
SUMMARY:5th Grade Continuation Ceremony
DESCRIPTION:
URL:https://www.soardenver.org/calendar/5th-grade-continuation-ceremony-3/
END:VEVENT
BEGIN:VEVENT
DTSTART;VALUE=DATE:20260521
DTEND;VALUE=DATE:20260522
DTSTAMP:20260424T093649
CREATED:20260326T200147Z
LAST-MODIFIED:20260326T200147Z
UID:10000387-1779321600-1779407999@www.soardenver.org
SUMMARY:Last Day of School
DESCRIPTION:
URL:https://www.soardenver.org/calendar/last-day-of-school-10/
END:VEVENT
END:VCALENDAR